BEGIN:VCALENDAR
VERSION:2.0
PRODID:-//Gardner CAC - ECPv6.15.20//NONSGML v1.0//EN
CALSCALE:GREGORIAN
METHOD:PUBLISH
X-ORIGINAL-URL:https://gardnercac.org
X-WR-CALDESC:Events for Gardner CAC
REFRESH-INTERVAL;VALUE=DURATION:PT1H
X-Robots-Tag:noindex
X-PUBLISHED-TTL:PT1H
BEGIN:VTIMEZONE
TZID:America/New_York
BEGIN:DAYLIGHT
TZOFFSETFROM:-0500
TZOFFSETTO:-0400
TZNAME:EDT
DTSTART:20240310T070000
END:DAYLIGHT
BEGIN:STANDARD
TZOFFSETFROM:-0400
TZOFFSETTO:-0500
TZNAME:EST
DTSTART:20241103T060000
END:STANDARD
BEGIN:DAYLIGHT
TZOFFSETFROM:-0500
TZOFFSETTO:-0400
TZNAME:EDT
DTSTART:20250309T070000
END:DAYLIGHT
BEGIN:STANDARD
TZOFFSETFROM:-0400
TZOFFSETTO:-0500
TZNAME:EST
DTSTART:20251102T060000
END:STANDARD
BEGIN:DAYLIGHT
TZOFFSETFROM:-0500
TZOFFSETTO:-0400
TZNAME:EDT
DTSTART:20260308T070000
END:DAYLIGHT
BEGIN:STANDARD
TZOFFSETFROM:-0400
TZOFFSETTO:-0500
TZNAME:EST
DTSTART:20261101T060000
END:STANDARD
END:VTIMEZONE
BEGIN:VEVENT
DTSTART;TZID=America/New_York:20251204T163000
DTEND;TZID=America/New_York:20251204T170000
DTSTAMP:20260425T222816
CREATED:20250905T141057Z
LAST-MODIFIED:20250911T171620Z
UID:10000235-1764865800-1764867600@gardnercac.org
SUMMARY:Fellowship Dinner
DESCRIPTION:Fellowship dinners are available on most Thursdays\, October–May at 4:30 pm at the Gardner CAC at 294 Pleasant Street\, Gardner. \nRefer to our Facebook page to confirm on which dates dinners will not be available. Thank you! \nOur meals follow a school schedule. If there is no school in Gardner due to inclement weather or school vacation\, Fellowship Meals will not be served on those days.
URL:https://gardnercac.org/event/fellowship-dinner/2025-12-04/
LOCATION:Gardner CAC\, 294 Pleasant Street\, Gardner\, Massachusetts\, 01440
END:VEVENT
END:VCALENDAR