BEGIN:VCALENDAR
VERSION:2.0
PRODID:-//Gardner CAC - ECPv6.15.20//NONSGML v1.0//EN
CALSCALE:GREGORIAN
METHOD:PUBLISH
X-WR-CALNAME:Gardner CAC
X-ORIGINAL-URL:https://gardnercac.org
X-WR-CALDESC:Events for Gardner CAC
REFRESH-INTERVAL;VALUE=DURATION:PT1H
X-Robots-Tag:noindex
X-PUBLISHED-TTL:PT1H
BEGIN:VTIMEZONE
TZID:America/New_York
BEGIN:DAYLIGHT
TZOFFSETFROM:-0500
TZOFFSETTO:-0400
TZNAME:EDT
DTSTART:20250309T070000
END:DAYLIGHT
BEGIN:STANDARD
TZOFFSETFROM:-0400
TZOFFSETTO:-0500
TZNAME:EST
DTSTART:20251102T060000
END:STANDARD
BEGIN:DAYLIGHT
TZOFFSETFROM:-0500
TZOFFSETTO:-0400
TZNAME:EDT
DTSTART:20260308T070000
END:DAYLIGHT
BEGIN:STANDARD
TZOFFSETFROM:-0400
TZOFFSETTO:-0500
TZNAME:EST
DTSTART:20261101T060000
END:STANDARD
BEGIN:DAYLIGHT
TZOFFSETFROM:-0500
TZOFFSETTO:-0400
TZNAME:EDT
DTSTART:20270314T070000
END:DAYLIGHT
BEGIN:STANDARD
TZOFFSETFROM:-0400
TZOFFSETTO:-0500
TZNAME:EST
DTSTART:20271107T060000
END:STANDARD
END:VTIMEZONE
BEGIN:VEVENT
DTSTART;TZID=America/New_York:20260205T163000
DTEND;TZID=America/New_York:20260205T170000
DTSTAMP:20260425T210807
CREATED:20250905T141057Z
LAST-MODIFIED:20250911T171620Z
UID:10000244-1770309000-1770310800@gardnercac.org
SUMMARY:Fellowship Dinner
DESCRIPTION:Fellowship dinners are available on most Thursdays\, October–May at 4:30 pm at the Gardner CAC at 294 Pleasant Street\, Gardner. \nRefer to our Facebook page to confirm on which dates dinners will not be available. Thank you! \nOur meals follow a school schedule. If there is no school in Gardner due to inclement weather or school vacation\, Fellowship Meals will not be served on those days.
URL:https://gardnercac.org/event/fellowship-dinner/2026-02-05/
LOCATION:Gardner CAC\, 294 Pleasant Street\, Gardner\, Massachusetts\, 01440
END:VEVENT
BEGIN:VEVENT
DTSTART;TZID=America/New_York:20260212T163000
DTEND;TZID=America/New_York:20260212T170000
DTSTAMP:20260425T210807
CREATED:20250905T141057Z
LAST-MODIFIED:20250911T171620Z
UID:10000245-1770913800-1770915600@gardnercac.org
SUMMARY:Fellowship Dinner
DESCRIPTION:Fellowship dinners are available on most Thursdays\, October–May at 4:30 pm at the Gardner CAC at 294 Pleasant Street\, Gardner. \nRefer to our Facebook page to confirm on which dates dinners will not be available. Thank you! \nOur meals follow a school schedule. If there is no school in Gardner due to inclement weather or school vacation\, Fellowship Meals will not be served on those days.
URL:https://gardnercac.org/event/fellowship-dinner/2026-02-12/
LOCATION:Gardner CAC\, 294 Pleasant Street\, Gardner\, Massachusetts\, 01440
END:VEVENT
BEGIN:VEVENT
DTSTART;TZID=America/New_York:20260226T163000
DTEND;TZID=America/New_York:20260226T170000
DTSTAMP:20260425T210807
CREATED:20250905T141057Z
LAST-MODIFIED:20250911T171620Z
UID:10000247-1772123400-1772125200@gardnercac.org
SUMMARY:Fellowship Dinner
DESCRIPTION:Fellowship dinners are available on most Thursdays\, October–May at 4:30 pm at the Gardner CAC at 294 Pleasant Street\, Gardner. \nRefer to our Facebook page to confirm on which dates dinners will not be available. Thank you! \nOur meals follow a school schedule. If there is no school in Gardner due to inclement weather or school vacation\, Fellowship Meals will not be served on those days.
URL:https://gardnercac.org/event/fellowship-dinner/2026-02-26/
LOCATION:Gardner CAC\, 294 Pleasant Street\, Gardner\, Massachusetts\, 01440
END:VEVENT
BEGIN:VEVENT
DTSTART;TZID=America/New_York:20260305T163000
DTEND;TZID=America/New_York:20260305T170000
DTSTAMP:20260425T210807
CREATED:20250905T141057Z
LAST-MODIFIED:20250911T171620Z
UID:10000248-1772728200-1772730000@gardnercac.org
SUMMARY:Fellowship Dinner
DESCRIPTION:Fellowship dinners are available on most Thursdays\, October–May at 4:30 pm at the Gardner CAC at 294 Pleasant Street\, Gardner. \nRefer to our Facebook page to confirm on which dates dinners will not be available. Thank you! \nOur meals follow a school schedule. If there is no school in Gardner due to inclement weather or school vacation\, Fellowship Meals will not be served on those days.
URL:https://gardnercac.org/event/fellowship-dinner/2026-03-05/
LOCATION:Gardner CAC\, 294 Pleasant Street\, Gardner\, Massachusetts\, 01440
END:VEVENT
BEGIN:VEVENT
DTSTART;TZID=America/New_York:20260312T163000
DTEND;TZID=America/New_York:20260312T170000
DTSTAMP:20260425T210807
CREATED:20250905T141057Z
LAST-MODIFIED:20250911T171620Z
UID:10000249-1773333000-1773334800@gardnercac.org
SUMMARY:Fellowship Dinner
DESCRIPTION:Fellowship dinners are available on most Thursdays\, October–May at 4:30 pm at the Gardner CAC at 294 Pleasant Street\, Gardner. \nRefer to our Facebook page to confirm on which dates dinners will not be available. Thank you! \nOur meals follow a school schedule. If there is no school in Gardner due to inclement weather or school vacation\, Fellowship Meals will not be served on those days.
URL:https://gardnercac.org/event/fellowship-dinner/2026-03-12/
LOCATION:Gardner CAC\, 294 Pleasant Street\, Gardner\, Massachusetts\, 01440
END:VEVENT
BEGIN:VEVENT
DTSTART;TZID=America/New_York:20260319T163000
DTEND;TZID=America/New_York:20260319T170000
DTSTAMP:20260425T210807
CREATED:20250905T141057Z
LAST-MODIFIED:20250911T171620Z
UID:10000250-1773937800-1773939600@gardnercac.org
SUMMARY:Fellowship Dinner
DESCRIPTION:Fellowship dinners are available on most Thursdays\, October–May at 4:30 pm at the Gardner CAC at 294 Pleasant Street\, Gardner. \nRefer to our Facebook page to confirm on which dates dinners will not be available. Thank you! \nOur meals follow a school schedule. If there is no school in Gardner due to inclement weather or school vacation\, Fellowship Meals will not be served on those days.
URL:https://gardnercac.org/event/fellowship-dinner/2026-03-19/
LOCATION:Gardner CAC\, 294 Pleasant Street\, Gardner\, Massachusetts\, 01440
END:VEVENT
BEGIN:VEVENT
DTSTART;TZID=America/New_York:20260326T163000
DTEND;TZID=America/New_York:20260326T170000
DTSTAMP:20260425T210807
CREATED:20250905T141057Z
LAST-MODIFIED:20250911T171620Z
UID:10000251-1774542600-1774544400@gardnercac.org
SUMMARY:Fellowship Dinner
DESCRIPTION:Fellowship dinners are available on most Thursdays\, October–May at 4:30 pm at the Gardner CAC at 294 Pleasant Street\, Gardner. \nRefer to our Facebook page to confirm on which dates dinners will not be available. Thank you! \nOur meals follow a school schedule. If there is no school in Gardner due to inclement weather or school vacation\, Fellowship Meals will not be served on those days.
URL:https://gardnercac.org/event/fellowship-dinner/2026-03-26/
LOCATION:Gardner CAC\, 294 Pleasant Street\, Gardner\, Massachusetts\, 01440
END:VEVENT
BEGIN:VEVENT
DTSTART;TZID=America/New_York:20260402T163000
DTEND;TZID=America/New_York:20260402T170000
DTSTAMP:20260425T210807
CREATED:20250905T141057Z
LAST-MODIFIED:20250911T171620Z
UID:10000252-1775147400-1775149200@gardnercac.org
SUMMARY:Fellowship Dinner
DESCRIPTION:Fellowship dinners are available on most Thursdays\, October–May at 4:30 pm at the Gardner CAC at 294 Pleasant Street\, Gardner. \nRefer to our Facebook page to confirm on which dates dinners will not be available. Thank you! \nOur meals follow a school schedule. If there is no school in Gardner due to inclement weather or school vacation\, Fellowship Meals will not be served on those days.
URL:https://gardnercac.org/event/fellowship-dinner/2026-04-02/
LOCATION:Gardner CAC\, 294 Pleasant Street\, Gardner\, Massachusetts\, 01440
END:VEVENT
BEGIN:VEVENT
DTSTART;TZID=America/New_York:20260409T163000
DTEND;TZID=America/New_York:20260409T170000
DTSTAMP:20260425T210807
CREATED:20250905T141057Z
LAST-MODIFIED:20250911T171620Z
UID:10000253-1775752200-1775754000@gardnercac.org
SUMMARY:Fellowship Dinner
DESCRIPTION:Fellowship dinners are available on most Thursdays\, October–May at 4:30 pm at the Gardner CAC at 294 Pleasant Street\, Gardner. \nRefer to our Facebook page to confirm on which dates dinners will not be available. Thank you! \nOur meals follow a school schedule. If there is no school in Gardner due to inclement weather or school vacation\, Fellowship Meals will not be served on those days.
URL:https://gardnercac.org/event/fellowship-dinner/2026-04-09/
LOCATION:Gardner CAC\, 294 Pleasant Street\, Gardner\, Massachusetts\, 01440
END:VEVENT
BEGIN:VEVENT
DTSTART;TZID=America/New_York:20260416T163000
DTEND;TZID=America/New_York:20260416T170000
DTSTAMP:20260425T210807
CREATED:20250905T141057Z
LAST-MODIFIED:20250911T171620Z
UID:10000254-1776357000-1776358800@gardnercac.org
SUMMARY:Fellowship Dinner
DESCRIPTION:Fellowship dinners are available on most Thursdays\, October–May at 4:30 pm at the Gardner CAC at 294 Pleasant Street\, Gardner. \nRefer to our Facebook page to confirm on which dates dinners will not be available. Thank you! \nOur meals follow a school schedule. If there is no school in Gardner due to inclement weather or school vacation\, Fellowship Meals will not be served on those days.
URL:https://gardnercac.org/event/fellowship-dinner/2026-04-16/
LOCATION:Gardner CAC\, 294 Pleasant Street\, Gardner\, Massachusetts\, 01440
END:VEVENT
BEGIN:VEVENT
DTSTART;TZID=America/New_York:20260430T163000
DTEND;TZID=America/New_York:20260430T170000
DTSTAMP:20260425T210807
CREATED:20250905T141057Z
LAST-MODIFIED:20250911T171620Z
UID:10000256-1777566600-1777568400@gardnercac.org
SUMMARY:Fellowship Dinner
DESCRIPTION:Fellowship dinners are available on most Thursdays\, October–May at 4:30 pm at the Gardner CAC at 294 Pleasant Street\, Gardner. \nRefer to our Facebook page to confirm on which dates dinners will not be available. Thank you! \nOur meals follow a school schedule. If there is no school in Gardner due to inclement weather or school vacation\, Fellowship Meals will not be served on those days.
URL:https://gardnercac.org/event/fellowship-dinner/2026-04-30/
LOCATION:Gardner CAC\, 294 Pleasant Street\, Gardner\, Massachusetts\, 01440
END:VEVENT
BEGIN:VEVENT
DTSTART;TZID=America/New_York:20260507T163000
DTEND;TZID=America/New_York:20260507T170000
DTSTAMP:20260425T210807
CREATED:20250905T141057Z
LAST-MODIFIED:20250911T171620Z
UID:10000257-1778171400-1778173200@gardnercac.org
SUMMARY:Fellowship Dinner
DESCRIPTION:Fellowship dinners are available on most Thursdays\, October–May at 4:30 pm at the Gardner CAC at 294 Pleasant Street\, Gardner. \nRefer to our Facebook page to confirm on which dates dinners will not be available. Thank you! \nOur meals follow a school schedule. If there is no school in Gardner due to inclement weather or school vacation\, Fellowship Meals will not be served on those days.
URL:https://gardnercac.org/event/fellowship-dinner/2026-05-07/
LOCATION:Gardner CAC\, 294 Pleasant Street\, Gardner\, Massachusetts\, 01440
END:VEVENT
BEGIN:VEVENT
DTSTART;TZID=America/New_York:20260514T163000
DTEND;TZID=America/New_York:20260514T170000
DTSTAMP:20260425T210807
CREATED:20250905T141057Z
LAST-MODIFIED:20250911T171620Z
UID:10000258-1778776200-1778778000@gardnercac.org
SUMMARY:Fellowship Dinner
DESCRIPTION:Fellowship dinners are available on most Thursdays\, October–May at 4:30 pm at the Gardner CAC at 294 Pleasant Street\, Gardner. \nRefer to our Facebook page to confirm on which dates dinners will not be available. Thank you! \nOur meals follow a school schedule. If there is no school in Gardner due to inclement weather or school vacation\, Fellowship Meals will not be served on those days.
URL:https://gardnercac.org/event/fellowship-dinner/2026-05-14/
LOCATION:Gardner CAC\, 294 Pleasant Street\, Gardner\, Massachusetts\, 01440
END:VEVENT
BEGIN:VEVENT
DTSTART;TZID=America/New_York:20260521T163000
DTEND;TZID=America/New_York:20260521T170000
DTSTAMP:20260425T210807
CREATED:20250905T141057Z
LAST-MODIFIED:20250911T171620Z
UID:10000259-1779381000-1779382800@gardnercac.org
SUMMARY:Fellowship Dinner
DESCRIPTION:Fellowship dinners are available on most Thursdays\, October–May at 4:30 pm at the Gardner CAC at 294 Pleasant Street\, Gardner. \nRefer to our Facebook page to confirm on which dates dinners will not be available. Thank you! \nOur meals follow a school schedule. If there is no school in Gardner due to inclement weather or school vacation\, Fellowship Meals will not be served on those days.
URL:https://gardnercac.org/event/fellowship-dinner/2026-05-21/
LOCATION:Gardner CAC\, 294 Pleasant Street\, Gardner\, Massachusetts\, 01440
END:VEVENT
BEGIN:VEVENT
DTSTART;TZID=America/New_York:20260528T163000
DTEND;TZID=America/New_York:20260528T170000
DTSTAMP:20260425T210807
CREATED:20250905T141057Z
LAST-MODIFIED:20250911T171620Z
UID:10000260-1779985800-1779987600@gardnercac.org
SUMMARY:Fellowship Dinner
DESCRIPTION:Fellowship dinners are available on most Thursdays\, October–May at 4:30 pm at the Gardner CAC at 294 Pleasant Street\, Gardner. \nRefer to our Facebook page to confirm on which dates dinners will not be available. Thank you! \nOur meals follow a school schedule. If there is no school in Gardner due to inclement weather or school vacation\, Fellowship Meals will not be served on those days.
URL:https://gardnercac.org/event/fellowship-dinner/2026-05-28/
LOCATION:Gardner CAC\, 294 Pleasant Street\, Gardner\, Massachusetts\, 01440
END:VEVENT
END:VCALENDAR